BEGIN:VCALENDAR
VERSION:2.0
PRODID:-//wholesale leverancier van Cloud telefonie internet mobiel en VoIP - ECPv6.15.20//NONSGML v1.0//EN
CALSCALE:GREGORIAN
METHOD:PUBLISH
X-WR-CALNAME:wholesale leverancier van Cloud telefonie internet mobiel en VoIP
X-ORIGINAL-URL:https://www.clouddistributie.nl
X-WR-CALDESC:Evenementen voor wholesale leverancier van Cloud telefonie internet mobiel en VoIP
REFRESH-INTERVAL;VALUE=DURATION:PT1H
X-Robots-Tag:noindex
X-PUBLISHED-TTL:PT1H
BEGIN:VTIMEZONE
TZID:Europe/Amsterdam
BEGIN:DAYLIGHT
TZOFFSETFROM:+0100
TZOFFSETTO:+0200
TZNAME:CEST
DTSTART:20240331T010000
END:DAYLIGHT
BEGIN:STANDARD
TZOFFSETFROM:+0200
TZOFFSETTO:+0100
TZNAME:CET
DTSTART:20241027T010000
END:STANDARD
BEGIN:DAYLIGHT
TZOFFSETFROM:+0100
TZOFFSETTO:+0200
TZNAME:CEST
DTSTART:20250330T010000
END:DAYLIGHT
BEGIN:STANDARD
TZOFFSETFROM:+0200
TZOFFSETTO:+0100
TZNAME:CET
DTSTART:20251026T010000
END:STANDARD
BEGIN:DAYLIGHT
TZOFFSETFROM:+0100
TZOFFSETTO:+0200
TZNAME:CEST
DTSTART:20260329T010000
END:DAYLIGHT
BEGIN:STANDARD
TZOFFSETFROM:+0200
TZOFFSETTO:+0100
TZNAME:CET
DTSTART:20261025T010000
END:STANDARD
END:VTIMEZONE
BEGIN:VEVENT
DTSTART;TZID=Europe/Amsterdam:20251210T100000
DTEND;TZID=Europe/Amsterdam:20251210T113000
DTSTAMP:20260421T233858
CREATED:20230117T081426Z
LAST-MODIFIED:20251031T100822Z
UID:4028-1765360800-1765366200@www.clouddistributie.nl
SUMMARY:Xelion Commerciële Introductietraining
DESCRIPTION:Xelion Commerciële Introductie training\nIn deze training geven we een korte demo van de Windows- en mobiele app. Deze training is voor iedereen interessant\, van sales tot engineers die wel eens een oplevering doen en de klant het een en ander moeten uitleggen. We geven een standaarddemo en daarna is er nog ruimte voor vragen. Deze training is online\, na inschrijving ontvang je verdere informatie via de mail.\n\nTrainingsdata\n\n05 November 2025\n10 December 2025\n\n\nInschrijven
URL:https://www.clouddistributie.nl/trainingen/xelion-training-ict-resellers/
CATEGORIES:Cloud trainingen,Xelion
ATTACH;FMTTYPE=image/png:https://www.clouddistributie.nl/wp-content/uploads/2024/11/Xelion-Business-talks.png
END:VEVENT
END:VCALENDAR